BEGIN:VCALENDAR
VERSION:2.0
PRODID:-//Center for the Arts Crested Butte - ECPv6.15.17.1//NONSGML v1.0//EN
CALSCALE:GREGORIAN
METHOD:PUBLISH
X-WR-CALNAME:Center for the Arts Crested Butte
X-ORIGINAL-URL:https://crestedbuttearts.org
X-WR-CALDESC:Events for Center for the Arts Crested Butte
REFRESH-INTERVAL;VALUE=DURATION:PT1H
X-Robots-Tag:noindex
X-PUBLISHED-TTL:PT1H
BEGIN:VTIMEZONE
TZID:America/Denver
BEGIN:DAYLIGHT
TZOFFSETFROM:-0700
TZOFFSETTO:-0600
TZNAME:MDT
DTSTART:20250309T090000
END:DAYLIGHT
BEGIN:STANDARD
TZOFFSETFROM:-0600
TZOFFSETTO:-0700
TZNAME:MST
DTSTART:20251102T080000
END:STANDARD
BEGIN:DAYLIGHT
TZOFFSETFROM:-0700
TZOFFSETTO:-0600
TZNAME:MDT
DTSTART:20260308T090000
END:DAYLIGHT
BEGIN:STANDARD
TZOFFSETFROM:-0600
TZOFFSETTO:-0700
TZNAME:MST
DTSTART:20261101T080000
END:STANDARD
BEGIN:DAYLIGHT
TZOFFSETFROM:-0700
TZOFFSETTO:-0600
TZNAME:MDT
DTSTART:20270314T090000
END:DAYLIGHT
BEGIN:STANDARD
TZOFFSETFROM:-0600
TZOFFSETTO:-0700
TZNAME:MST
DTSTART:20271107T080000
END:STANDARD
END:VTIMEZONE
BEGIN:VEVENT
DTSTART;TZID=America/Denver:20260507T173000
DTEND;TZID=America/Denver:20260507T173000
DTSTAMP:20260423T201907
CREATED:20260421T150452Z
LAST-MODIFIED:20260421T153209Z
UID:10001704-1778175000-1778175000@crestedbuttearts.org
SUMMARY:Local Wildlife & Bear Update
DESCRIPTION:Presented by: Colorado Parks and Wildlife\nCome meet your local Colorado Parks and Wildlife staff for a wildlife update and information on bear activity\, with a focus on human-bear conflict strategies.\n \nCommunity members and visitors are encouraged to attend this free event! \nLocation: King Room at the Center | RSVP Here \nPlease contact District Wildlife Manager Codi Prior with questions: codi.prior@state.co.us
URL:https://crestedbuttearts.org/event/wildlife-and-bear-update/
LOCATION:Center for the Arts Crested Butte\, 606 Sixth Street\, Crested Butte\, CO\, 81224\, United States
CATEGORIES:Free Event,Ξ Other Events
ATTACH;FMTTYPE=image/jpeg:https://crestedbuttearts.org/wp-content/uploads/2026/04/CPW-Web-Logo.jpg
GEO:38.8677288;-106.9802383
X-APPLE-STRUCTURED-LOCATION;VALUE=URI;X-ADDRESS=Center for the Arts Crested Butte 606 Sixth Street Crested Butte CO 81224 United States;X-APPLE-RADIUS=500;X-TITLE=606 Sixth Street:geo:-106.9802383,38.8677288
END:VEVENT
BEGIN:VEVENT
DTSTART;VALUE=DATE:20260522
DTEND;VALUE=DATE:20260717
DTSTAMP:20260423T201907
CREATED:20260407T195713Z
LAST-MODIFIED:20260407T200115Z
UID:10001697-1779408000-1784246399@crestedbuttearts.org
SUMMARY:Johnny and Patrick Art Exhibition: “Duke and DeFeo: The long road of two painters”
DESCRIPTION:May 22 – July 16 | Closing Reception July 16\nPatrick Duke and Johnny DeFeo met while studying Art at Western State in 2005 and became fast friends. From there they studied together in Florence\, Italy\, and in the 20 years since they have both grown their individual art careers\, maintaining a focus on the landscapes that inspire them. Duke lives in Crested Butte and maintains a studio gallery called Studio One Eleven\, at 111 Elk Ave. DeFeo now lives and works in Taos\, New Mexico. The two get together every year to paint en plein air\, out in the inspiring lands around Crested Butte. This exhibition is a survey of recent plein air landscape paintings as well as the studio paintings which the region inspires.
URL:https://crestedbuttearts.org/event/johnny-and-patrick-art-exhibition/
LOCATION:Center for the Arts Crested Butte\, 606 Sixth Street\, Crested Butte\, CO\, 81224\, United States
CATEGORIES:Free Event,VISUAL Arts
ATTACH;FMTTYPE=image/png:https://crestedbuttearts.org/wp-content/uploads/2026/04/Plein-Art-Johnny-and-Patrick.png
GEO:38.8677288;-106.9802383
X-APPLE-STRUCTURED-LOCATION;VALUE=URI;X-ADDRESS=Center for the Arts Crested Butte 606 Sixth Street Crested Butte CO 81224 United States;X-APPLE-RADIUS=500;X-TITLE=606 Sixth Street:geo:-106.9802383,38.8677288
END:VEVENT
BEGIN:VEVENT
DTSTART;TZID=America/Denver:20260529T170000
DTEND;TZID=America/Denver:20260529T193000
DTSTAMP:20260423T201907
CREATED:20260401T182244Z
LAST-MODIFIED:20260407T202635Z
UID:10001686-1780074000-1780083000@crestedbuttearts.org
SUMMARY:Speed Puzzling Happy Hour
DESCRIPTION:Join us for a playful\, fast-paced evening of puzzles\, friendly competition\, and community connection. Whether you’re a seasoned speed puzzler or just in it for the fun\, this interactive event invites you to jump in\, team up\, and test your skills across a variety of puzzle challenges. We’ll have a range of puzzle difficulties available (100\, 200\, and 300 pieces)\, making this event accessible for all experience levels. \n\nPuzzle Chess – A one-on-one challenge using 100-piece puzzles and a chess clock. Race against another puzzler\, compare times\, and see how you stack up. Jump in anytime—no formal start required.\nPairs Relay – A crowd favorite! Teams of two compete on two puzzles\, switching every five minutes. Strategy\, communication\, and quick thinking are key as you tag in and out to complete your puzzles.\nTeam & Pairs Competitions – Depending on the crowd\, we’ll also run traditional head-to-head formats with pairs (two people) or teams (four people) working together to complete puzzles as quickly as possible.\n\nThere will be two Speed Puzzle Happy Hours: April 22 and May 29. May 29 will be family-friendly\, with a special welcome to youth (15 and under)\, though both events are open to all ages. Come solo or bring a team—either way\, you’ll leave with new connections and maybe a new favorite pastime.
URL:https://crestedbuttearts.org/event/speed-puzzling-happy-hour-2/
LOCATION:Center for the Arts Crested Butte\, 606 Sixth Street\, Crested Butte\, CO\, 81224\, United States
CATEGORIES:Free Event
ATTACH;FMTTYPE=image/png:https://crestedbuttearts.org/wp-content/uploads/2026/03/Speed-puzzling-1.png
GEO:38.8677288;-106.9802383
X-APPLE-STRUCTURED-LOCATION;VALUE=URI;X-ADDRESS=Center for the Arts Crested Butte 606 Sixth Street Crested Butte CO 81224 United States;X-APPLE-RADIUS=500;X-TITLE=606 Sixth Street:geo:-106.9802383,38.8677288
END:VEVENT
END:VCALENDAR