BEGIN:VCALENDAR
VERSION:2.0
PRODID:-//Center for the Arts Crested Butte - ECPv6.15.17.1//NONSGML v1.0//EN
CALSCALE:GREGORIAN
METHOD:PUBLISH
X-WR-CALNAME:Center for the Arts Crested Butte
X-ORIGINAL-URL:https://crestedbuttearts.org
X-WR-CALDESC:Events for Center for the Arts Crested Butte
REFRESH-INTERVAL;VALUE=DURATION:PT1H
X-Robots-Tag:noindex
X-PUBLISHED-TTL:PT1H
BEGIN:VTIMEZONE
TZID:America/Denver
BEGIN:DAYLIGHT
TZOFFSETFROM:-0700
TZOFFSETTO:-0600
TZNAME:MDT
DTSTART:20250309T090000
END:DAYLIGHT
BEGIN:STANDARD
TZOFFSETFROM:-0600
TZOFFSETTO:-0700
TZNAME:MST
DTSTART:20251102T080000
END:STANDARD
BEGIN:DAYLIGHT
TZOFFSETFROM:-0700
TZOFFSETTO:-0600
TZNAME:MDT
DTSTART:20260308T090000
END:DAYLIGHT
BEGIN:STANDARD
TZOFFSETFROM:-0600
TZOFFSETTO:-0700
TZNAME:MST
DTSTART:20261101T080000
END:STANDARD
BEGIN:DAYLIGHT
TZOFFSETFROM:-0700
TZOFFSETTO:-0600
TZNAME:MDT
DTSTART:20270314T090000
END:DAYLIGHT
BEGIN:STANDARD
TZOFFSETFROM:-0600
TZOFFSETTO:-0700
TZNAME:MST
DTSTART:20271107T080000
END:STANDARD
END:VTIMEZONE
BEGIN:VEVENT
DTSTART;TZID=America/Denver:20260422T170000
DTEND;TZID=America/Denver:20260422T193000
DTSTAMP:20260423T220804
CREATED:20260326T163121Z
LAST-MODIFIED:20260331T172618Z
UID:10001668-1776877200-1776886200@crestedbuttearts.org
SUMMARY:Speed Puzzling Happy Hour
DESCRIPTION:Join us for a playful\, fast-paced evening of puzzles\, friendly competition\, and community connection. Whether you’re a seasoned speed puzzler or just in it for the fun\, this interactive event invites you to jump in\, team up\, and test your skills across a variety of puzzle challenges. We’ll have a range of puzzle difficulties available (100\, 200\, and 300 pieces)\, making this event accessible for all experience levels. \n\nPuzzle Chess – A one-on-one challenge using 100-piece puzzles and a chess clock. Race against another puzzler\, compare times\, and see how you stack up. Jump in anytime—no formal start required.\nPairs Relay – A crowd favorite! Teams of two compete on two puzzles\, switching every five minutes. Strategy\, communication\, and quick thinking are key as you tag in and out to complete your puzzles.\nTeam & Pairs Competitions – Depending on the crowd\, we’ll also run traditional head-to-head formats with pairs (two people) or teams (four people) working together to complete puzzles as quickly as possible.\n\nThere will be two Speed Puzzle Happy Hours: April 22 and May 29. May 29 will be family-friendly\, with a special welcome to youth (15 and under)\, though both events are open to all ages. Come solo or bring a team—either way\, you’ll leave with new connections and maybe a new favorite pastime.
URL:https://crestedbuttearts.org/event/speed-puzzling-happy-hour/
LOCATION:Center for the Arts Crested Butte\, 606 Sixth Street\, Crested Butte\, CO\, 81224\, United States
CATEGORIES:Free Event
ATTACH;FMTTYPE=image/png:https://crestedbuttearts.org/wp-content/uploads/2026/03/Speed-puzzling-1.png
GEO:38.8677288;-106.9802383
X-APPLE-STRUCTURED-LOCATION;VALUE=URI;X-ADDRESS=Center for the Arts Crested Butte 606 Sixth Street Crested Butte CO 81224 United States;X-APPLE-RADIUS=500;X-TITLE=606 Sixth Street:geo:-106.9802383,38.8677288
END:VEVENT
BEGIN:VEVENT
DTSTART;VALUE=DATE:20260322
DTEND;VALUE=DATE:20260411
DTSTAMP:20260423T220804
CREATED:20260319T204615Z
LAST-MODIFIED:20260331T162037Z
UID:10001666-1774137600-1775865599@crestedbuttearts.org
SUMMARY:ROMP x The Center Ski Auction
DESCRIPTION:Take home a piece of Crested Butte’s creative spirit. \nThe Send It Ski Art Auction features a limited-edition collection of artist-designed skis\, created in collaboration with local builders and unveiled during the exhibition opening. Each pair is a one-of-a-kind work of art inspired by the people\, landscape\, and culture that define our mountain community. \nBid on your favorite pair and support something bigger. Proceeds from each ski benefit both the artist and a local nonprofit of their choosing. \nHow It Works\n\n\nBrowse the skis online or see them in person at the Kinder Padon Gallery \n\n\nPlace your bid on your favorite design \n\n\nAuction closes: April 10 at 5:00pm \n\n\nWinning bidders will be contacted directly \n\n\nAll skis are fully functional\, rideable works of art. \n\nFeatured Artists + Nonprofits\nEach artist selected a nonprofit that will receive a portion of the proceeds from their ski. \n\n\nAlex Stevenson → CB Ski Patrol \n\n\nEric Phillips → CB Mountain Rescue \n\n\nJaime Thompson → CB State of Mind \n\n\nJanice Stevenson → Project Hope \n\n\nKem Wimett → Living Journeys \n\n\nLiv Trujillo → CB Avalanche Center \n\n\nMadeleine Greeson → PAWS \n\n\nShannon Dunn → Adaptive Sports Center \n\n\nZach Bauer → CB Mountain Bike Association \n\n\nLuke Schroeder → Center for the Arts Crested Butte \n\n\nCheck out the auction here!
URL:https://crestedbuttearts.org/event/romp-x-the-center-ski-auction/
LOCATION:Center for the Arts Crested Butte\, 606 Sixth Street\, Crested Butte\, CO\, 81224\, United States
CATEGORIES:Free Event,VISUAL Arts
ATTACH;FMTTYPE=image/webp:https://crestedbuttearts.org/wp-content/uploads/2025/11/Romp-Ski-Gallery-Reception.webp
GEO:38.8677288;-106.9802383
X-APPLE-STRUCTURED-LOCATION;VALUE=URI;X-ADDRESS=Center for the Arts Crested Butte 606 Sixth Street Crested Butte CO 81224 United States;X-APPLE-RADIUS=500;X-TITLE=606 Sixth Street:geo:-106.9802383,38.8677288
END:VEVENT
BEGIN:VEVENT
DTSTART;TZID=America/Denver:20260212T173000
DTEND;TZID=America/Denver:20260212T173000
DTSTAMP:20260423T220804
CREATED:20260102T184116Z
LAST-MODIFIED:20260102T184126Z
UID:10001647-1770917400-1770917400@crestedbuttearts.org
SUMMARY:Professional Development Workshop: Bringing Your Brand to Life
DESCRIPTION:Free | Registration Requried\nBringing Your Brand to Life is a hands-on follow-up workshop with Liza Scher that helps artists translate their brand framework into clear\, compelling action. Participants will refine portfolios\, artist statements\, and bios so their materials accurately reflect their voice\, values\, and creative focus. The session also explores how to extend your brand into your social presence with greater consistency and intention. Designed for artists ready to move from strategy to execution\, this workshop offers practical guidance and immediate\, usable takeaways.
URL:https://crestedbuttearts.org/event/bringing-your-brand-to-life/
LOCATION:Center for the Arts Crested Butte\, 606 Sixth Street\, Crested Butte\, CO\, 81224\, United States
CATEGORIES:Free Event,Ξ Creative District
ATTACH;FMTTYPE=image/png:https://crestedbuttearts.org/wp-content/uploads/2025/03/CBCD-square.png
GEO:38.8677288;-106.9802383
X-APPLE-STRUCTURED-LOCATION;VALUE=URI;X-ADDRESS=Center for the Arts Crested Butte 606 Sixth Street Crested Butte CO 81224 United States;X-APPLE-RADIUS=500;X-TITLE=606 Sixth Street:geo:-106.9802383,38.8677288
END:VEVENT
END:VCALENDAR