BEGIN:VCALENDAR
VERSION:2.0
PRODID:-//Center for the Arts Crested Butte - ECPv6.15.17.1//NONSGML v1.0//EN
CALSCALE:GREGORIAN
METHOD:PUBLISH
X-ORIGINAL-URL:https://crestedbuttearts.org
X-WR-CALDESC:Events for Center for the Arts Crested Butte
REFRESH-INTERVAL;VALUE=DURATION:PT1H
X-Robots-Tag:noindex
X-PUBLISHED-TTL:PT1H
BEGIN:VTIMEZONE
TZID:America/Denver
BEGIN:DAYLIGHT
TZOFFSETFROM:-0700
TZOFFSETTO:-0600
TZNAME:MDT
DTSTART:20250309T090000
END:DAYLIGHT
BEGIN:STANDARD
TZOFFSETFROM:-0600
TZOFFSETTO:-0700
TZNAME:MST
DTSTART:20251102T080000
END:STANDARD
BEGIN:DAYLIGHT
TZOFFSETFROM:-0700
TZOFFSETTO:-0600
TZNAME:MDT
DTSTART:20260308T090000
END:DAYLIGHT
BEGIN:STANDARD
TZOFFSETFROM:-0600
TZOFFSETTO:-0700
TZNAME:MST
DTSTART:20261101T080000
END:STANDARD
BEGIN:DAYLIGHT
TZOFFSETFROM:-0700
TZOFFSETTO:-0600
TZNAME:MDT
DTSTART:20270314T090000
END:DAYLIGHT
BEGIN:STANDARD
TZOFFSETFROM:-0600
TZOFFSETTO:-0700
TZNAME:MST
DTSTART:20271107T080000
END:STANDARD
END:VTIMEZONE
BEGIN:VEVENT
DTSTART;TZID=America/Denver:20260206T180000
DTEND;TZID=America/Denver:20260206T203000
DTSTAMP:20260420T200215
CREATED:20251124T170346Z
LAST-MODIFIED:20260203T194533Z
UID:10001634-1770400800-1770409800@crestedbuttearts.org
SUMMARY:Send It: a ROMP x Center Ski Art Exhibition
DESCRIPTION:Ski films by Matchstick Productions 6-7pm | Gallery Reception 6:30-8:30pm\nSend It brings together local artists and master ski builders for a limited-edition series of custom skis that celebrate Crested Butte’s creative spirit. Each artist-designed pair will debut at the gallery opening\, featuring a live DJ\, one-of-a-kind pop-up flash tattoos by Alex Stevenson\, and iconic old-school ski films. \nProceeds from each purchase support both the participating artists and vital local nonprofits chosen by the artists. This collaboration showcases the intersection of art\, community\, and the mountain culture that defines Crested Butte. \nArtists + Nonprofits \nAlex Stevenson – CB Ski Patrol\nEric Phillips – CB Mountain Rescue\nJaime Thompson – CB State of Mind\nJanice Stevenson – Project Hope\nKem Wimett – Living Journeys\nLiv Trujillo – CB Avalanche Center\nMadeleine Greeson – PAWS\nShannon Dunn – Adaptive Sports\nZach Bauer – CB Mountain Bike Association\nLuke Schroeder – Center for the Arts \nRSVP here to secure your spot to Matchstick Productions film showing!
URL:https://crestedbuttearts.org/event/send-it-a-romp-x-center-ski-art-exhibition/
LOCATION:Center for the Arts Crested Butte\, 606 Sixth Street\, Crested Butte\, CO\, 81224\, United States
CATEGORIES:VISUAL Arts,Ξ Kinder Padon Gallery
ATTACH;FMTTYPE=image/webp:https://crestedbuttearts.org/wp-content/uploads/2025/11/Romp-Ski-Gallery-Reception.webp
GEO:38.8677288;-106.9802383
X-APPLE-STRUCTURED-LOCATION;VALUE=URI;X-ADDRESS=Center for the Arts Crested Butte 606 Sixth Street Crested Butte CO 81224 United States;X-APPLE-RADIUS=500;X-TITLE=606 Sixth Street:geo:-106.9802383,38.8677288
END:VEVENT
END:VCALENDAR