BEGIN:VCALENDAR
VERSION:2.0
PRODID:-//Center for the Arts Crested Butte - ECPv6.15.17.1//NONSGML v1.0//EN
CALSCALE:GREGORIAN
METHOD:PUBLISH
X-ORIGINAL-URL:https://crestedbuttearts.org
X-WR-CALDESC:Events for Center for the Arts Crested Butte
REFRESH-INTERVAL;VALUE=DURATION:PT1H
X-Robots-Tag:noindex
X-PUBLISHED-TTL:PT1H
BEGIN:VTIMEZONE
TZID:America/Denver
BEGIN:DAYLIGHT
TZOFFSETFROM:-0700
TZOFFSETTO:-0600
TZNAME:MDT
DTSTART:20250309T090000
END:DAYLIGHT
BEGIN:STANDARD
TZOFFSETFROM:-0600
TZOFFSETTO:-0700
TZNAME:MST
DTSTART:20251102T080000
END:STANDARD
BEGIN:DAYLIGHT
TZOFFSETFROM:-0700
TZOFFSETTO:-0600
TZNAME:MDT
DTSTART:20260308T090000
END:DAYLIGHT
BEGIN:STANDARD
TZOFFSETFROM:-0600
TZOFFSETTO:-0700
TZNAME:MST
DTSTART:20261101T080000
END:STANDARD
BEGIN:DAYLIGHT
TZOFFSETFROM:-0700
TZOFFSETTO:-0600
TZNAME:MDT
DTSTART:20270314T090000
END:DAYLIGHT
BEGIN:STANDARD
TZOFFSETFROM:-0600
TZOFFSETTO:-0700
TZNAME:MST
DTSTART:20271107T080000
END:STANDARD
END:VTIMEZONE
BEGIN:VEVENT
DTSTART;TZID=America/Denver:20260221T200000
DTEND;TZID=America/Denver:20260221T220000
DTSTAMP:20260423T161949
CREATED:20260114T203226Z
LAST-MODIFIED:20260114T203306Z
UID:10001657-1771704000-1771711200@crestedbuttearts.org
SUMMARY:Move the Butte
DESCRIPTION:Showtimes: \nFebruary 19 – 7pm\nFebruary 20 – 7pm\nFebruary 21 – 4pm + 8pm \nMove the Butte is a community dance production that features diverse dance styles performed by over 140 local Crested Butte and Gunnison Valley adults.  The show serves our entire community as a supportive\, inclusive\, and safe environment\, as well as an opportunity for dancers to perform on stage.  This production showcases many dance styles such as Ballet\, Tap\, Aerial\, Lyrical\, Modern\, Contemporary\, Hip Hop\, Jazz\, Burlesque\, Fire Performing\, Hula Hooping\, and more! Approximately 1\,400 audience members watch Move the Butte each year\, and we encourage any new participants to join us! \nFor information and tickets\, visit www.movethebutte.com.
URL:https://crestedbuttearts.org/event/move-the-butte-4/
LOCATION:Center for the Arts Crested Butte\, 606 Sixth Street\, Crested Butte\, CO\, 81224\, United States
CATEGORIES:PERFORMING Arts,Ξ Other Events
ATTACH;FMTTYPE=image/png:https://crestedbuttearts.org/wp-content/uploads/2025/12/MTB-Logo.png
GEO:38.8677288;-106.9802383
X-APPLE-STRUCTURED-LOCATION;VALUE=URI;X-ADDRESS=Center for the Arts Crested Butte 606 Sixth Street Crested Butte CO 81224 United States;X-APPLE-RADIUS=500;X-TITLE=606 Sixth Street:geo:-106.9802383,38.8677288
END:VEVENT
BEGIN:VEVENT
DTSTART;TZID=America/Denver:20260221T160000
DTEND;TZID=America/Denver:20260221T180000
DTSTAMP:20260423T161949
CREATED:20260114T203200Z
LAST-MODIFIED:20260114T203313Z
UID:10001656-1771689600-1771696800@crestedbuttearts.org
SUMMARY:Move the Butte
DESCRIPTION:Showtimes: \nFebruary 19 – 7pm\nFebruary 20 – 7pm\nFebruary 21 – 4pm + 8pm \nMove the Butte is a community dance production that features diverse dance styles performed by over 140 local Crested Butte and Gunnison Valley adults.  The show serves our entire community as a supportive\, inclusive\, and safe environment\, as well as an opportunity for dancers to perform on stage.  This production showcases many dance styles such as Ballet\, Tap\, Aerial\, Lyrical\, Modern\, Contemporary\, Hip Hop\, Jazz\, Burlesque\, Fire Performing\, Hula Hooping\, and more! Approximately 1\,400 audience members watch Move the Butte each year\, and we encourage any new participants to join us! \nFor information and tickets\, visit www.movethebutte.com.
URL:https://crestedbuttearts.org/event/move-the-butte-3/
LOCATION:Center for the Arts Crested Butte\, 606 Sixth Street\, Crested Butte\, CO\, 81224\, United States
CATEGORIES:PERFORMING Arts,Ξ Other Events
ATTACH;FMTTYPE=image/png:https://crestedbuttearts.org/wp-content/uploads/2025/12/MTB-Logo.png
GEO:38.8677288;-106.9802383
X-APPLE-STRUCTURED-LOCATION;VALUE=URI;X-ADDRESS=Center for the Arts Crested Butte 606 Sixth Street Crested Butte CO 81224 United States;X-APPLE-RADIUS=500;X-TITLE=606 Sixth Street:geo:-106.9802383,38.8677288
END:VEVENT
BEGIN:VEVENT
DTSTART;TZID=America/Denver:20260220T190000
DTEND;TZID=America/Denver:20260220T210000
DTSTAMP:20260423T161949
CREATED:20260114T203127Z
LAST-MODIFIED:20260114T203320Z
UID:10001655-1771614000-1771621200@crestedbuttearts.org
SUMMARY:Move the Butte
DESCRIPTION:Showtimes: \nFebruary 19 – 7pm\nFebruary 20 – 7pm\nFebruary 21 – 4pm + 8pm \nMove the Butte is a community dance production that features diverse dance styles performed by over 140 local Crested Butte and Gunnison Valley adults.  The show serves our entire community as a supportive\, inclusive\, and safe environment\, as well as an opportunity for dancers to perform on stage.  This production showcases many dance styles such as Ballet\, Tap\, Aerial\, Lyrical\, Modern\, Contemporary\, Hip Hop\, Jazz\, Burlesque\, Fire Performing\, Hula Hooping\, and more! Approximately 1\,400 audience members watch Move the Butte each year\, and we encourage any new participants to join us! \nFor information and tickets\, visit www.movethebutte.com.
URL:https://crestedbuttearts.org/event/move-the-butte-2/
LOCATION:Center for the Arts Crested Butte\, 606 Sixth Street\, Crested Butte\, CO\, 81224\, United States
CATEGORIES:PERFORMING Arts,Ξ Other Events
ATTACH;FMTTYPE=image/png:https://crestedbuttearts.org/wp-content/uploads/2025/12/MTB-Logo.png
GEO:38.8677288;-106.9802383
X-APPLE-STRUCTURED-LOCATION;VALUE=URI;X-ADDRESS=Center for the Arts Crested Butte 606 Sixth Street Crested Butte CO 81224 United States;X-APPLE-RADIUS=500;X-TITLE=606 Sixth Street:geo:-106.9802383,38.8677288
END:VEVENT
BEGIN:VEVENT
DTSTART;TZID=America/Denver:20260219T190000
DTEND;TZID=America/Denver:20260219T210000
DTSTAMP:20260423T161949
CREATED:20251231T173835Z
LAST-MODIFIED:20260114T203327Z
UID:10001645-1771527600-1771534800@crestedbuttearts.org
SUMMARY:Move the Butte
DESCRIPTION:Showtimes: \nFebruary 19 – 7pm\nFebruary 20 – 7pm\nFebruary 21 – 4pm + 8pm \nMove the Butte is a community dance production that features diverse dance styles performed by over 140 local Crested Butte and Gunnison Valley adults.  The show serves our entire community as a supportive\, inclusive\, and safe environment\, as well as an opportunity for dancers to perform on stage.  This production showcases many dance styles such as Ballet\, Tap\, Aerial\, Lyrical\, Modern\, Contemporary\, Hip Hop\, Jazz\, Burlesque\, Fire Performing\, Hula Hooping\, and more! Approximately 1\,400 audience members watch Move the Butte each year\, and we encourage any new participants to join us! \nFor information and tickets\, visit www.movethebutte.com.
URL:https://crestedbuttearts.org/event/move-the-butte/
LOCATION:Center for the Arts Crested Butte\, 606 Sixth Street\, Crested Butte\, CO\, 81224\, United States
CATEGORIES:PERFORMING Arts,Ξ Other Events
ATTACH;FMTTYPE=image/png:https://crestedbuttearts.org/wp-content/uploads/2025/12/MTB-Logo.png
GEO:38.8677288;-106.9802383
X-APPLE-STRUCTURED-LOCATION;VALUE=URI;X-ADDRESS=Center for the Arts Crested Butte 606 Sixth Street Crested Butte CO 81224 United States;X-APPLE-RADIUS=500;X-TITLE=606 Sixth Street:geo:-106.9802383,38.8677288
END:VEVENT
END:VCALENDAR